BEGIN:VCALENDAR
VERSION:2.0
PRODID:-//Welbeck Sailing Club - ECPv6.15.20//NONSGML v1.0//EN
CALSCALE:GREGORIAN
METHOD:PUBLISH
X-ORIGINAL-URL:https://welbecksailingclub.org.uk
X-WR-CALDESC:Events for Welbeck Sailing Club
REFRESH-INTERVAL;VALUE=DURATION:PT1H
X-Robots-Tag:noindex
X-PUBLISHED-TTL:PT1H
BEGIN:VTIMEZONE
TZID:Europe/London
BEGIN:DAYLIGHT
TZOFFSETFROM:+0000
TZOFFSETTO:+0100
TZNAME:BST
DTSTART:20250330T010000
END:DAYLIGHT
BEGIN:STANDARD
TZOFFSETFROM:+0100
TZOFFSETTO:+0000
TZNAME:GMT
DTSTART:20251026T010000
END:STANDARD
BEGIN:DAYLIGHT
TZOFFSETFROM:+0000
TZOFFSETTO:+0100
TZNAME:BST
DTSTART:20260329T010000
END:DAYLIGHT
BEGIN:STANDARD
TZOFFSETFROM:+0100
TZOFFSETTO:+0000
TZNAME:GMT
DTSTART:20261025T010000
END:STANDARD
BEGIN:DAYLIGHT
TZOFFSETFROM:+0000
TZOFFSETTO:+0100
TZNAME:BST
DTSTART:20270328T010000
END:DAYLIGHT
BEGIN:STANDARD
TZOFFSETFROM:+0100
TZOFFSETTO:+0000
TZNAME:GMT
DTSTART:20271031T010000
END:STANDARD
END:VTIMEZONE
BEGIN:VEVENT
DTSTART;TZID=Europe/London:20260607T113000
DTEND;TZID=Europe/London:20260607T163000
DTSTAMP:20260422T094643
CREATED:20250331T142611Z
LAST-MODIFIED:20260208T150716Z
UID:1463-1780831800-1780849800@welbecksailingclub.org.uk
SUMMARY:Lowe Series - Race 13 & 14
DESCRIPTION:
URL:https://welbecksailingclub.org.uk/event/lowe-series-race-13-14/
LOCATION:Welbeck Sailing Club\, The Great Lake\, Norton\, Nottinghamshire\, United Kingdom
CATEGORIES:Lowe Series,Racing
END:VEVENT
BEGIN:VEVENT
DTSTART;TZID=Europe/London:20260614T113000
DTEND;TZID=Europe/London:20260614T163000
DTSTAMP:20260422T094643
CREATED:20250331T142655Z
LAST-MODIFIED:20260208T150743Z
UID:1465-1781436600-1781454600@welbecksailingclub.org.uk
SUMMARY:Lowe Series - Race 15 & 16
DESCRIPTION:
URL:https://welbecksailingclub.org.uk/event/lowe-series-race-15-16/
LOCATION:Welbeck Sailing Club\, The Great Lake\, Norton\, Nottinghamshire\, United Kingdom
CATEGORIES:Lowe Series,Racing
END:VEVENT
END:VCALENDAR