BEGIN:VCALENDAR
VERSION:2.0
PRODID:-//Welbeck Sailing Club - ECPv6.15.20//NONSGML v1.0//EN
CALSCALE:GREGORIAN
METHOD:PUBLISH
X-WR-CALNAME:Welbeck Sailing Club
X-ORIGINAL-URL:https://welbecksailingclub.org.uk
X-WR-CALDESC:Events for Welbeck Sailing Club
REFRESH-INTERVAL;VALUE=DURATION:PT1H
X-Robots-Tag:noindex
X-PUBLISHED-TTL:PT1H
BEGIN:VTIMEZONE
TZID:Europe/London
BEGIN:DAYLIGHT
TZOFFSETFROM:+0000
TZOFFSETTO:+0100
TZNAME:BST
DTSTART:20250330T010000
END:DAYLIGHT
BEGIN:STANDARD
TZOFFSETFROM:+0100
TZOFFSETTO:+0000
TZNAME:GMT
DTSTART:20251026T010000
END:STANDARD
BEGIN:DAYLIGHT
TZOFFSETFROM:+0000
TZOFFSETTO:+0100
TZNAME:BST
DTSTART:20260329T010000
END:DAYLIGHT
BEGIN:STANDARD
TZOFFSETFROM:+0100
TZOFFSETTO:+0000
TZNAME:GMT
DTSTART:20261025T010000
END:STANDARD
BEGIN:DAYLIGHT
TZOFFSETFROM:+0000
TZOFFSETTO:+0100
TZNAME:BST
DTSTART:20270328T010000
END:DAYLIGHT
BEGIN:STANDARD
TZOFFSETFROM:+0100
TZOFFSETTO:+0000
TZNAME:GMT
DTSTART:20271031T010000
END:STANDARD
END:VTIMEZONE
BEGIN:VEVENT
DTSTART;TZID=Europe/London:20260419T113000
DTEND;TZID=Europe/London:20260419T163000
DTSTAMP:20260420T064945
CREATED:20250331T141534Z
LAST-MODIFIED:20260208T145941Z
UID:1447-1776598200-1776616200@welbecksailingclub.org.uk
SUMMARY:Lowe Series - Race 3 & 4
DESCRIPTION:
URL:https://welbecksailingclub.org.uk/event/lowe-series-race-3-4/
LOCATION:Welbeck Sailing Club\, The Great Lake\, Norton\, Nottinghamshire\, United Kingdom
CATEGORIES:Lowe Series,Racing
END:VEVENT
BEGIN:VEVENT
DTSTART;TZID=Europe/London:20260412T113000
DTEND;TZID=Europe/London:20260412T163000
DTSTAMP:20260420T064945
CREATED:20250331T141444Z
LAST-MODIFIED:20260208T145901Z
UID:1445-1775993400-1776011400@welbecksailingclub.org.uk
SUMMARY:Lowe Series - Race 1 & 2
DESCRIPTION:
URL:https://welbecksailingclub.org.uk/event/lowe-series-race-1-2/
LOCATION:Welbeck Sailing Club\, The Great Lake\, Norton\, Nottinghamshire\, United Kingdom
CATEGORIES:Lowe Series,Racing
END:VEVENT
END:VCALENDAR